BEGIN:VCALENDAR
VERSION:2.0
PRODID:-//Highways - ECPv5.0.1//NONSGML v1.0//EN
CALSCALE:GREGORIAN
METHOD:PUBLISH
X-WR-CALNAME:Highways
X-ORIGINAL-URL:http://www.hwys.net.au
X-WR-CALDESC:Events for Highways
BEGIN:VTIMEZONE
TZID:UTC
BEGIN:STANDARD
TZOFFSETFROM:+0000
TZOFFSETTO:+0000
TZNAME:UTC
DTSTART:20190101T000000
END:STANDARD
END:VTIMEZONE
BEGIN:VEVENT
DTSTART;TZID=UTC:20191225T113000
DTEND;TZID=UTC:20191225T160000
DTSTAMP:20200229T114021
CREATED:20191004T055351Z
LAST-MODIFIED:20191004T055351Z
UID:1560-1577273400-1577289600@www.hwys.net.au
SUMMARY:Book Now for Christmas
DESCRIPTION:Celebrate Christmas Day with us here at Highways. \nAdults – 3 course $70\nChildren 3 to 11 years – $20\nChildren Under 2 – Free \nSet menu including Entree\, Main and Dessert \nView Christmas Day Menu here \nDietary requirements available upon booking only.\nSet time sessions:\n11:30am to 1:20pm\n12:00pm to 1:50pm\n1:30pm to 4:00pm\n2:00pm to 4:00pm \nPlease phone 9133 3800 for all enquiries and bookings \n
URL:http://www.hwys.net.au/event/book-now-for-christmas/
ATTACH;FMTTYPE=image/jpeg:http://www.hwys.net.au/wp-content/uploads/2019/10/PLG-Book-Now-Christmas-2019_customer-facing-POS-screen.jpg
END:VEVENT
END:VCALENDAR