BEGIN:VCALENDAR
VERSION:2.0
PRODID:-//Highways - ECPv5.0.1//NONSGML v1.0//EN
CALSCALE:GREGORIAN
METHOD:PUBLISH
X-WR-CALNAME:Highways
X-ORIGINAL-URL:http://www.hwys.net.au
X-WR-CALDESC:Events for Highways
BEGIN:VTIMEZONE
TZID:UTC
BEGIN:STANDARD
TZOFFSETFROM:+0000
TZOFFSETTO:+0000
TZNAME:UTC
DTSTART:20200101T000000
END:STANDARD
END:VTIMEZONE
BEGIN:VEVENT
DTSTART;TZID=UTC:20200301T090000
DTEND;TZID=UTC:20200430T233000
DTSTAMP:20200229T111342
CREATED:20200228T002213Z
LAST-MODIFIED:20200228T002402Z
UID:1681-1583053200-1588289400@www.hwys.net.au
SUMMARY:March & April Drinks Of The Month
DESCRIPTION:Join us throughout March & April to take advantage of these great offers! \n\n$7.50 – Glass of Pepperjack Shiraz\n$13.00 – Large Glass of Pepperjack Shiraz\n$38.00 – Bottle of Pepperjack Shiraz\n$7.00 – Corona bottle\n$22.00 – Bucket of 4 Coronas\n$7.00 – Great Northern Pint\n$7.00 – Johnnie Walker Red\n$8.00 – Upgrade to Johnnie Walker Black\n\nThis venue practices responsible service \n*Conditions apply \n
URL:http://www.hwys.net.au/event/march-april-drinks-of-the-month/
ATTACH;FMTTYPE=image/jpeg:http://www.hwys.net.au/wp-content/uploads/2020/02/Drinks-of-the-month_Digital_MARCHAPRIL_20-01_TV-WIDE-scaled.jpg
END:VEVENT
END:VCALENDAR