BEGIN:VCALENDAR
VERSION:2.0
PRODID:-//Highways - ECPv5.0.1//NONSGML v1.0//EN
CALSCALE:GREGORIAN
METHOD:PUBLISH
X-WR-CALNAME:Highways
X-ORIGINAL-URL:http://www.hwys.net.au
X-WR-CALDESC:Events for Highways
BEGIN:VTIMEZONE
TZID:UTC
BEGIN:STANDARD
TZOFFSETFROM:+0000
TZOFFSETTO:+0000
TZNAME:UTC
DTSTART:20200101T000000
END:STANDARD
END:VTIMEZONE
BEGIN:VEVENT
DTSTART;TZID=UTC:20200101T090000
DTEND;TZID=UTC:20200229T233000
DTSTAMP:20200229T112436
CREATED:20191218T013045Z
LAST-MODIFIED:20191218T013045Z
UID:1620-1577869200-1583019000@www.hwys.net.au
SUMMARY:Jan & Feb Drinks Of The Month
DESCRIPTION:Join us throughout January & February to take advantage of these great offers! \n\n$6 Carlton Dry Schooners\n$6 Stella Artois Stubbies\n$7 (small) $9 (large) Glass of Tatachilla White Admiral Pinot Grigio\n$1 Tanqueray Gin Upgrade\n$10 Jugs of Soft Drink\n\nThis venue practices responsible service \n*Conditions apply \n
URL:http://www.hwys.net.au/event/jan-feb-drinks-of-the-month/
ATTACH;FMTTYPE=image/jpeg:http://www.hwys.net.au/wp-content/uploads/2019/12/Drinks-of-the-month_Digital_JAN_FEB20-01-TV-wide-scaled.jpg
END:VEVENT
BEGIN:VEVENT
DTSTART;TZID=UTC:20200124T090000
DTEND;TZID=UTC:20200209T210000
DTSTAMP:20200229T112436
CREATED:20191219T062932Z
LAST-MODIFIED:20200121T003337Z
UID:1626-1579856400-1581282000@www.hwys.net.au
SUMMARY:Red Envelope Giveaway
DESCRIPTION:Win a share of $2\,500 in cash! \nTo celebrate Lunar New Year we’re offering you the chance to win a share of over $2\,500 in cash. \nSimply swipe your card at the kiosk or when you purchase food & drinks between Friday 24 January and Sunday 9 February for your chance to win. \nClick here to view Terms & Conditions \n
URL:http://www.hwys.net.au/event/red-envelope-giveaway/
ATTACH;FMTTYPE=image/jpeg:http://www.hwys.net.au/wp-content/uploads/2020/01/VP190312_MAX_LunarNewYearGiveaway_LCD_H_VICB_HR.jpg
END:VEVENT
BEGIN:VEVENT
DTSTART;TZID=UTC:20200201T090000
DTEND;TZID=UTC:20200229T235900
DTSTAMP:20200229T112436
CREATED:20200130T052458Z
LAST-MODIFIED:20200131T000245Z
UID:1653-1580547600-1583020740@www.hwys.net.au
SUMMARY:February Food & Beverage Special Offer
DESCRIPTION:Reward yourself\nLove a good deal?\nHopefully you’ve earned loads of bonus points in our Double Double promotion last month\, now’s the time to make them work for you. \nWhy not take advantage of 25% off food & beverage vouchers?\n$10 Food & Beverage voucher = now only 750 points\n$25 Food & Beverage voucher = now only 1\,825 points\n$50 Food & Beverage voucher = now only 3\,750 points \nHurry – these offers are available during February only.\nRemember\, redeeming your points does NOT affect your tier status and bonus points earned through promotions do NOT add to tier status so make the most of them with these special offers. \nTerms & Conditions apply \n
URL:http://www.hwys.net.au/event/points-burn-food-beverage-special-offer/
ATTACH;FMTTYPE=image/jpeg:http://www.hwys.net.au/wp-content/uploads/2020/01/Point-Burn-FB-Pegasus.jpg
END:VEVENT
BEGIN:VEVENT
DTSTART;TZID=UTC:20200201T090000
DTEND;TZID=UTC:20200221T235900
DTSTAMP:20200229T112436
CREATED:20200131T042851Z
LAST-MODIFIED:20200131T044101Z
UID:1658-1580547600-1582329540@www.hwys.net.au
SUMMARY:Special Offer – Neds Blue Diamond Stakes Day Tickets
DESCRIPTION:Reward yourself\nLove your racing or even just a good deal?\nHopefully you’ve earned loads of bonus points in our Double Double promotion last month\, now’s the time to make them work for you.\nRedeem two general admission tickets for Neds Blue Diamond Stakes Day for 3\,000 Points. \nHurry – this special offer is only available until Friday 21 February.\nRemember\, redeeming your points does NOT affect your tier status and bonus points earned through promotions do NOT add to tier status so make the most of them with these special offers. \nTerms & Conditions apply \n
URL:http://www.hwys.net.au/event/special-offer-neds-blue-diamond-stakes-day-tickets/
ATTACH;FMTTYPE=image/jpeg:http://www.hwys.net.au/wp-content/uploads/2020/01/Blue-diamond_Pegasus.jpg
END:VEVENT
BEGIN:VEVENT
DTSTART;TZID=UTC:20200206T120000
DTEND;TZID=UTC:20200404T180000
DTSTAMP:20200229T112436
CREATED:20200206T053702Z
LAST-MODIFIED:20200209T235911Z
UID:1663-1580990400-1586023200@www.hwys.net.au
SUMMARY:AFL Footy Tipping Competition
DESCRIPTION:Do you love AFL Football? \nWhy not take a chance and join our Footy Tipping Competition. \nONLY $30 to enter plus receive a FREE house beer\, wine or soft drink when placing tips! \nThere are some great prizes on offer. \n\nVenue Competition Prize\nPegasus Leisure Group prize pool of $12\,000\nSports Pick National prize pool of $50\,000\n\nPlus: \n\nPick 9 winners and WIN a $10 Venue Voucher.\nAn invite to the end of season BBQ\n\nKick off Thursday 19 March \nSign up now! \nClick here for Terms and Conditions \n
URL:http://www.hwys.net.au/event/afl-footy-tipping-competition/
ATTACH;FMTTYPE=image/jpeg:http://www.hwys.net.au/wp-content/uploads/2020/02/HIGHWAYS_SportsPick_Footy-tipping_Digital-01-scaled.jpg
END:VEVENT
END:VCALENDAR